BEGIN:VCALENDAR
VERSION:2.0
PRODID:spatie/icalendar-generator
NAME:Stadt Winterthur Abfall
X-WR-CALNAME:Stadt Winterthur Abfall
BEGIN:VTIMEZONE
TZID:Europe/Zurich
BEGIN:STANDARD
DTSTART:20251026T030000
TZOFFSETFROM:+0200
TZOFFSETTO:+0100
END:STANDARD
BEGIN:DAYLIGHT
DTSTART:20260329T010000
TZOFFSETFROM:+0100
TZOFFSETTO:+0200
END:DAYLIGHT
BEGIN:STANDARD
DTSTART:20261025T030000
TZOFFSETFROM:+0200
TZOFFSETTO:+0100
END:STANDARD
BEGIN:DAYLIGHT
DTSTART:20270328T010000
TZOFFSETFROM:+0100
TZOFFSETTO:+0200
END:DAYLIGHT
BEGIN:STANDARD
DTSTART:20271031T030000
TZOFFSETFROM:+0200
TZOFFSETTO:+0100
END:STANDARD
BEGIN:DAYLIGHT
DTSTART:20280326T010000
TZOFFSETFROM:+0100
TZOFFSETTO:+0200
END:DAYLIGHT
END:VTIMEZONE
BEGIN:VTIMEZONE
TZID:UTC
BEGIN:STANDARD
DTSTART:20250727T112919
TZOFFSETFROM:+0000
TZOFFSETTO:+0000
END:STANDARD
END:VTIMEZONE
BEGIN:VEVENT
UID:69ea028f48967
DTSTAMP:20260423T112919Z
SUMMARY:Tour 7 Grüntour
DESCRIPTION: 
URL:https://m.winterthur.ch/index.php?apid=680863940
DTSTART;TZID=Europe/Zurich:20260423T070000
DTEND;TZID=Europe/Zurich:20260423T073000
END:VEVENT
BEGIN:VEVENT
UID:69ea028f489bf
DTSTAMP:20260423T112919Z
SUMMARY:Tour 7 Grüntour
DESCRIPTION: 
URL:https://m.winterthur.ch/index.php?apid=680863940
DTSTART;TZID=Europe/Zurich:20260430T070000
DTEND;TZID=Europe/Zurich:20260430T073000
END:VEVENT
BEGIN:VEVENT
UID:69ea028f489cd
DTSTAMP:20260423T112919Z
SUMMARY:Tour 7 Grüntour
DESCRIPTION: 
URL:https://m.winterthur.ch/index.php?apid=680863940
DTSTART;TZID=Europe/Zurich:20260507T070000
DTEND;TZID=Europe/Zurich:20260507T073000
END:VEVENT
BEGIN:VEVENT
UID:69ea028f489d8
DTSTAMP:20260423T112919Z
SUMMARY:Tour 7 Grüntour
DESCRIPTION: 
URL:https://m.winterthur.ch/index.php?apid=680863940
DTSTART;TZID=Europe/Zurich:20260521T070000
DTEND;TZID=Europe/Zurich:20260521T073000
END:VEVENT
BEGIN:VEVENT
UID:69ea028f489e2
DTSTAMP:20260423T112919Z
SUMMARY:Tour 7 Grüntour
DESCRIPTION: 
URL:https://m.winterthur.ch/index.php?apid=680863940
DTSTART;TZID=Europe/Zurich:20260528T070000
DTEND;TZID=Europe/Zurich:20260528T073000
END:VEVENT
BEGIN:VEVENT
UID:69ea028f489ec
DTSTAMP:20260423T112919Z
SUMMARY:Tour 7 Grüntour
DESCRIPTION: 
URL:https://m.winterthur.ch/index.php?apid=680863940
DTSTART;TZID=Europe/Zurich:20260604T070000
DTEND;TZID=Europe/Zurich:20260604T073000
END:VEVENT
BEGIN:VEVENT
UID:69ea028f489f6
DTSTAMP:20260423T112919Z
SUMMARY:Tour 7 Grüntour
DESCRIPTION: 
URL:https://m.winterthur.ch/index.php?apid=680863940
DTSTART;TZID=Europe/Zurich:20260611T070000
DTEND;TZID=Europe/Zurich:20260611T073000
END:VEVENT
BEGIN:VEVENT
UID:69ea028f489ff
DTSTAMP:20260423T112919Z
SUMMARY:Tour 7 Grüntour
DESCRIPTION: 
URL:https://m.winterthur.ch/index.php?apid=680863940
DTSTART;TZID=Europe/Zurich:20260618T070000
DTEND;TZID=Europe/Zurich:20260618T073000
END:VEVENT
BEGIN:VEVENT
UID:69ea028f48a08
DTSTAMP:20260423T112919Z
SUMMARY:Tour 7 Grüntour
DESCRIPTION: 
URL:https://m.winterthur.ch/index.php?apid=680863940
DTSTART;TZID=Europe/Zurich:20260625T070000
DTEND;TZID=Europe/Zurich:20260625T073000
END:VEVENT
BEGIN:VEVENT
UID:69ea028f48a12
DTSTAMP:20260423T112919Z
SUMMARY:Tour 7 Grüntour
DESCRIPTION: 
URL:https://m.winterthur.ch/index.php?apid=680863940
DTSTART;TZID=Europe/Zurich:20260702T070000
DTEND;TZID=Europe/Zurich:20260702T073000
END:VEVENT
BEGIN:VEVENT
UID:69ea028f48a1c
DTSTAMP:20260423T112919Z
SUMMARY:Tour 7 Grüntour
DESCRIPTION: 
URL:https://m.winterthur.ch/index.php?apid=680863940
DTSTART;TZID=Europe/Zurich:20260709T070000
DTEND;TZID=Europe/Zurich:20260709T073000
END:VEVENT
BEGIN:VEVENT
UID:69ea028f48a25
DTSTAMP:20260423T112919Z
SUMMARY:Tour 7 Grüntour
DESCRIPTION: 
URL:https://m.winterthur.ch/index.php?apid=680863940
DTSTART;TZID=Europe/Zurich:20260716T070000
DTEND;TZID=Europe/Zurich:20260716T073000
END:VEVENT
BEGIN:VEVENT
UID:69ea028f48a2e
DTSTAMP:20260423T112919Z
SUMMARY:Tour 7 Grüntour
DESCRIPTION: 
URL:https://m.winterthur.ch/index.php?apid=680863940
DTSTART;TZID=Europe/Zurich:20260723T070000
DTEND;TZID=Europe/Zurich:20260723T073000
END:VEVENT
BEGIN:VEVENT
UID:69ea028f48a37
DTSTAMP:20260423T112919Z
SUMMARY:Tour 7 Grüntour
DESCRIPTION: 
URL:https://m.winterthur.ch/index.php?apid=680863940
DTSTART;TZID=Europe/Zurich:20260730T070000
DTEND;TZID=Europe/Zurich:20260730T073000
END:VEVENT
BEGIN:VEVENT
UID:69ea028f48a41
DTSTAMP:20260423T112919Z
SUMMARY:Tour 7 Grüntour
DESCRIPTION: 
URL:https://m.winterthur.ch/index.php?apid=680863940
DTSTART;TZID=Europe/Zurich:20260806T070000
DTEND;TZID=Europe/Zurich:20260806T073000
END:VEVENT
BEGIN:VEVENT
UID:69ea028f48a4b
DTSTAMP:20260423T112919Z
SUMMARY:Tour 7 Grüntour
DESCRIPTION: 
URL:https://m.winterthur.ch/index.php?apid=680863940
DTSTART;TZID=Europe/Zurich:20260813T070000
DTEND;TZID=Europe/Zurich:20260813T073000
END:VEVENT
BEGIN:VEVENT
UID:69ea028f48a55
DTSTAMP:20260423T112919Z
SUMMARY:Tour 7 Grüntour
DESCRIPTION: 
URL:https://m.winterthur.ch/index.php?apid=680863940
DTSTART;TZID=Europe/Zurich:20260820T070000
DTEND;TZID=Europe/Zurich:20260820T073000
END:VEVENT
BEGIN:VEVENT
UID:69ea028f48a5e
DTSTAMP:20260423T112919Z
SUMMARY:Tour 7 Grüntour
DESCRIPTION: 
URL:https://m.winterthur.ch/index.php?apid=680863940
DTSTART;TZID=Europe/Zurich:20260827T070000
DTEND;TZID=Europe/Zurich:20260827T073000
END:VEVENT
BEGIN:VEVENT
UID:69ea028f48a67
DTSTAMP:20260423T112919Z
SUMMARY:Tour 7 Grüntour
DESCRIPTION: 
URL:https://m.winterthur.ch/index.php?apid=680863940
DTSTART;TZID=Europe/Zurich:20260903T070000
DTEND;TZID=Europe/Zurich:20260903T073000
END:VEVENT
BEGIN:VEVENT
UID:69ea028f48a71
DTSTAMP:20260423T112919Z
SUMMARY:Tour 7 Grüntour
DESCRIPTION: 
URL:https://m.winterthur.ch/index.php?apid=680863940
DTSTART;TZID=Europe/Zurich:20260910T070000
DTEND;TZID=Europe/Zurich:20260910T073000
END:VEVENT
BEGIN:VEVENT
UID:69ea028f48a7b
DTSTAMP:20260423T112919Z
SUMMARY:Tour 7 Grüntour
DESCRIPTION: 
URL:https://m.winterthur.ch/index.php?apid=680863940
DTSTART;TZID=Europe/Zurich:20260917T070000
DTEND;TZID=Europe/Zurich:20260917T073000
END:VEVENT
BEGIN:VEVENT
UID:69ea028f48a84
DTSTAMP:20260423T112919Z
SUMMARY:Tour 7 Grüntour
DESCRIPTION: 
URL:https://m.winterthur.ch/index.php?apid=680863940
DTSTART;TZID=Europe/Zurich:20260924T070000
DTEND;TZID=Europe/Zurich:20260924T073000
END:VEVENT
BEGIN:VEVENT
UID:69ea028f48a8d
DTSTAMP:20260423T112919Z
SUMMARY:Tour 7 Grüntour
DESCRIPTION: 
URL:https://m.winterthur.ch/index.php?apid=680863940
DTSTART;TZID=Europe/Zurich:20261001T070000
DTEND;TZID=Europe/Zurich:20261001T073000
END:VEVENT
BEGIN:VEVENT
UID:69ea028f48a97
DTSTAMP:20260423T112919Z
SUMMARY:Tour 7 Grüntour
DESCRIPTION: 
URL:https://m.winterthur.ch/index.php?apid=680863940
DTSTART;TZID=Europe/Zurich:20261008T070000
DTEND;TZID=Europe/Zurich:20261008T073000
END:VEVENT
BEGIN:VEVENT
UID:69ea028f48aa1
DTSTAMP:20260423T112919Z
SUMMARY:Tour 7 Grüntour
DESCRIPTION: 
URL:https://m.winterthur.ch/index.php?apid=680863940
DTSTART;TZID=Europe/Zurich:20261015T070000
DTEND;TZID=Europe/Zurich:20261015T073000
END:VEVENT
BEGIN:VEVENT
UID:69ea028f48aac
DTSTAMP:20260423T112919Z
SUMMARY:Tour 7 Grüntour
DESCRIPTION: 
URL:https://m.winterthur.ch/index.php?apid=680863940
DTSTART;TZID=Europe/Zurich:20261022T070000
DTEND;TZID=Europe/Zurich:20261022T073000
END:VEVENT
BEGIN:VEVENT
UID:69ea028f48ab5
DTSTAMP:20260423T112919Z
SUMMARY:Tour 7 Grüntour
DESCRIPTION: 
URL:https://m.winterthur.ch/index.php?apid=680863940
DTSTART;TZID=Europe/Zurich:20261029T070000
DTEND;TZID=Europe/Zurich:20261029T073000
END:VEVENT
BEGIN:VEVENT
UID:69ea028f48abf
DTSTAMP:20260423T112919Z
SUMMARY:Tour 7 Grüntour
DESCRIPTION: 
URL:https://m.winterthur.ch/index.php?apid=680863940
DTSTART;TZID=Europe/Zurich:20261105T070000
DTEND;TZID=Europe/Zurich:20261105T073000
END:VEVENT
BEGIN:VEVENT
UID:69ea028f48ac8
DTSTAMP:20260423T112919Z
SUMMARY:Tour 7 Grüntour
DESCRIPTION: 
URL:https://m.winterthur.ch/index.php?apid=680863940
DTSTART;TZID=Europe/Zurich:20261112T070000
DTEND;TZID=Europe/Zurich:20261112T073000
END:VEVENT
BEGIN:VEVENT
UID:69ea028f48ad2
DTSTAMP:20260423T112919Z
SUMMARY:Tour 7 Grüntour
DESCRIPTION: 
URL:https://m.winterthur.ch/index.php?apid=680863940
DTSTART;TZID=Europe/Zurich:20261119T070000
DTEND;TZID=Europe/Zurich:20261119T073000
END:VEVENT
BEGIN:VEVENT
UID:69ea028f48adb
DTSTAMP:20260423T112919Z
SUMMARY:Tour 7 Grüntour
DESCRIPTION: 
URL:https://m.winterthur.ch/index.php?apid=680863940
DTSTART;TZID=Europe/Zurich:20261126T070000
DTEND;TZID=Europe/Zurich:20261126T073000
END:VEVENT
BEGIN:VEVENT
UID:69ea028f48ae6
DTSTAMP:20260423T112919Z
SUMMARY:Tour 7 Grüntour
DESCRIPTION: 
URL:https://m.winterthur.ch/index.php?apid=680863940
DTSTART;TZID=Europe/Zurich:20261203T070000
DTEND;TZID=Europe/Zurich:20261203T073000
END:VEVENT
BEGIN:VEVENT
UID:69ea028f48af0
DTSTAMP:20260423T112919Z
SUMMARY:Tour 7 Grüntour
DESCRIPTION: 
URL:https://m.winterthur.ch/index.php?apid=680863940
DTSTART;TZID=Europe/Zurich:20261210T070000
DTEND;TZID=Europe/Zurich:20261210T073000
END:VEVENT
BEGIN:VEVENT
UID:69ea028f48af9
DTSTAMP:20260423T112919Z
SUMMARY:Tour 7 Grüntour
DESCRIPTION: 
URL:https://m.winterthur.ch/index.php?apid=680863940
DTSTART;TZID=Europe/Zurich:20261217T070000
DTEND;TZID=Europe/Zurich:20261217T073000
END:VEVENT
BEGIN:VEVENT
UID:69ea028f48b03
DTSTAMP:20260423T112919Z
SUMMARY:Tour 7 Grüntour
DESCRIPTION: 
URL:https://m.winterthur.ch/index.php?apid=680863940
DTSTART;TZID=Europe/Zurich:20261224T070000
DTEND;TZID=Europe/Zurich:20261224T073000
END:VEVENT
BEGIN:VEVENT
UID:69ea028f48b0c
DTSTAMP:20260423T112919Z
SUMMARY:Tour 7 Grüntour
DESCRIPTION: 
URL:https://m.winterthur.ch/index.php?apid=680863940
DTSTART;TZID=Europe/Zurich:20261231T070000
DTEND;TZID=Europe/Zurich:20261231T073000
END:VEVENT
BEGIN:VEVENT
UID:69ea028f48b17
DTSTAMP:20260423T112919Z
SUMMARY:Tour 7 Grüntour
DESCRIPTION: 
URL:https://m.winterthur.ch/index.php?apid=680863940
DTSTART;TZID=Europe/Zurich:20270107T070000
DTEND;TZID=Europe/Zurich:20270107T073000
END:VEVENT
BEGIN:VEVENT
UID:69ea028f48b21
DTSTAMP:20260423T112919Z
SUMMARY:Tour 7 Grüntour
DESCRIPTION: 
URL:https://m.winterthur.ch/index.php?apid=680863940
DTSTART;TZID=Europe/Zurich:20270114T070000
DTEND;TZID=Europe/Zurich:20270114T073000
END:VEVENT
BEGIN:VEVENT
UID:69ea028f48b2a
DTSTAMP:20260423T112919Z
SUMMARY:Tour 7 Grüntour
DESCRIPTION: 
URL:https://m.winterthur.ch/index.php?apid=680863940
DTSTART;TZID=Europe/Zurich:20270121T070000
DTEND;TZID=Europe/Zurich:20270121T073000
END:VEVENT
BEGIN:VEVENT
UID:69ea028f48b34
DTSTAMP:20260423T112919Z
SUMMARY:Tour 7 Grüntour
DESCRIPTION: 
URL:https://m.winterthur.ch/index.php?apid=680863940
DTSTART;TZID=Europe/Zurich:20270128T070000
DTEND;TZID=Europe/Zurich:20270128T073000
END:VEVENT
BEGIN:VEVENT
UID:69ea028f48b3e
DTSTAMP:20260423T112919Z
SUMMARY:Tour 7 Grüntour
DESCRIPTION: 
URL:https://m.winterthur.ch/index.php?apid=680863940
DTSTART;TZID=Europe/Zurich:20270204T070000
DTEND;TZID=Europe/Zurich:20270204T073000
END:VEVENT
BEGIN:VEVENT
UID:69ea028f48b48
DTSTAMP:20260423T112919Z
SUMMARY:Tour 7 Grüntour
DESCRIPTION: 
URL:https://m.winterthur.ch/index.php?apid=680863940
DTSTART;TZID=Europe/Zurich:20270211T070000
DTEND;TZID=Europe/Zurich:20270211T073000
END:VEVENT
BEGIN:VEVENT
UID:69ea028f48b52
DTSTAMP:20260423T112919Z
SUMMARY:Tour 7 Grüntour
DESCRIPTION: 
URL:https://m.winterthur.ch/index.php?apid=680863940
DTSTART;TZID=Europe/Zurich:20270218T070000
DTEND;TZID=Europe/Zurich:20270218T073000
END:VEVENT
BEGIN:VEVENT
UID:69ea028f48b5b
DTSTAMP:20260423T112919Z
SUMMARY:Tour 7 Grüntour
DESCRIPTION: 
URL:https://m.winterthur.ch/index.php?apid=680863940
DTSTART;TZID=Europe/Zurich:20270225T070000
DTEND;TZID=Europe/Zurich:20270225T073000
END:VEVENT
BEGIN:VEVENT
UID:69ea028f48b65
DTSTAMP:20260423T112919Z
SUMMARY:Tour 7 Grüntour
DESCRIPTION: 
URL:https://m.winterthur.ch/index.php?apid=680863940
DTSTART;TZID=Europe/Zurich:20270304T070000
DTEND;TZID=Europe/Zurich:20270304T073000
END:VEVENT
BEGIN:VEVENT
UID:69ea028f48b6f
DTSTAMP:20260423T112919Z
SUMMARY:Tour 7 Grüntour
DESCRIPTION: 
URL:https://m.winterthur.ch/index.php?apid=680863940
DTSTART;TZID=Europe/Zurich:20270311T070000
DTEND;TZID=Europe/Zurich:20270311T073000
END:VEVENT
BEGIN:VEVENT
UID:69ea028f48b79
DTSTAMP:20260423T112919Z
SUMMARY:Tour 7 Grüntour
DESCRIPTION: 
URL:https://m.winterthur.ch/index.php?apid=680863940
DTSTART;TZID=Europe/Zurich:20270318T070000
DTEND;TZID=Europe/Zurich:20270318T073000
END:VEVENT
BEGIN:VEVENT
UID:69ea028f48b83
DTSTAMP:20260423T112919Z
SUMMARY:Tour 7 Grüntour
DESCRIPTION: 
URL:https://m.winterthur.ch/index.php?apid=680863940
DTSTART;TZID=Europe/Zurich:20270325T070000
DTEND;TZID=Europe/Zurich:20270325T073000
END:VEVENT
BEGIN:VEVENT
UID:69ea028f48b8d
DTSTAMP:20260423T112919Z
SUMMARY:Tour 7 Grüntour
DESCRIPTION: 
URL:https://m.winterthur.ch/index.php?apid=680863940
DTSTART;TZID=Europe/Zurich:20270401T070000
DTEND;TZID=Europe/Zurich:20270401T073000
END:VEVENT
BEGIN:VEVENT
UID:69ea028f48b97
DTSTAMP:20260423T112919Z
SUMMARY:Tour 7 Grüntour
DESCRIPTION: 
URL:https://m.winterthur.ch/index.php?apid=680863940
DTSTART;TZID=Europe/Zurich:20270408T070000
DTEND;TZID=Europe/Zurich:20270408T073000
END:VEVENT
BEGIN:VEVENT
UID:69ea028f48baf
DTSTAMP:20260423T112919Z
SUMMARY:Tour 7 Grüntour
DESCRIPTION: 
URL:https://m.winterthur.ch/index.php?apid=680863940
DTSTART;TZID=Europe/Zurich:20270415T070000
DTEND;TZID=Europe/Zurich:20270415T073000
END:VEVENT
BEGIN:VEVENT
UID:69ea028f48bba
DTSTAMP:20260423T112919Z
SUMMARY:Tour 7 Grüntour
DESCRIPTION: 
URL:https://m.winterthur.ch/index.php?apid=680863940
DTSTART;TZID=Europe/Zurich:20270422T070000
DTEND;TZID=Europe/Zurich:20270422T073000
END:VEVENT
BEGIN:VEVENT
UID:69ea028f48bc5
DTSTAMP:20260423T112919Z
SUMMARY:Tour 7 Grüntour
DESCRIPTION: 
URL:https://m.winterthur.ch/index.php?apid=680863940
DTSTART;TZID=Europe/Zurich:20270429T070000
DTEND;TZID=Europe/Zurich:20270429T073000
END:VEVENT
BEGIN:VEVENT
UID:69ea028f48bce
DTSTAMP:20260423T112919Z
SUMMARY:Tour 7 Grüntour
DESCRIPTION: 
URL:https://m.winterthur.ch/index.php?apid=680863940
DTSTART;TZID=Europe/Zurich:20270513T070000
DTEND;TZID=Europe/Zurich:20270513T073000
END:VEVENT
BEGIN:VEVENT
UID:69ea028f48bd8
DTSTAMP:20260423T112919Z
SUMMARY:Tour 7 Grüntour
DESCRIPTION: 
URL:https://m.winterthur.ch/index.php?apid=680863940
DTSTART;TZID=Europe/Zurich:20270520T070000
DTEND;TZID=Europe/Zurich:20270520T073000
END:VEVENT
BEGIN:VEVENT
UID:69ea028f48be2
DTSTAMP:20260423T112919Z
SUMMARY:Tour 7 Grüntour
DESCRIPTION: 
URL:https://m.winterthur.ch/index.php?apid=680863940
DTSTART;TZID=Europe/Zurich:20270527T070000
DTEND;TZID=Europe/Zurich:20270527T073000
END:VEVENT
BEGIN:VEVENT
UID:69ea028f48bec
DTSTAMP:20260423T112919Z
SUMMARY:Tour 7 Grüntour
DESCRIPTION: 
URL:https://m.winterthur.ch/index.php?apid=680863940
DTSTART;TZID=Europe/Zurich:20270603T070000
DTEND;TZID=Europe/Zurich:20270603T073000
END:VEVENT
BEGIN:VEVENT
UID:69ea028f48bf6
DTSTAMP:20260423T112919Z
SUMMARY:Tour 7 Grüntour
DESCRIPTION: 
URL:https://m.winterthur.ch/index.php?apid=680863940
DTSTART;TZID=Europe/Zurich:20270610T070000
DTEND;TZID=Europe/Zurich:20270610T073000
END:VEVENT
BEGIN:VEVENT
UID:69ea028f48c00
DTSTAMP:20260423T112919Z
SUMMARY:Tour 7 Grüntour
DESCRIPTION: 
URL:https://m.winterthur.ch/index.php?apid=680863940
DTSTART;TZID=Europe/Zurich:20270617T070000
DTEND;TZID=Europe/Zurich:20270617T073000
END:VEVENT
BEGIN:VEVENT
UID:69ea028f48c0a
DTSTAMP:20260423T112919Z
SUMMARY:Tour 7 Grüntour
DESCRIPTION: 
URL:https://m.winterthur.ch/index.php?apid=680863940
DTSTART;TZID=Europe/Zurich:20270624T070000
DTEND;TZID=Europe/Zurich:20270624T073000
END:VEVENT
BEGIN:VEVENT
UID:69ea028f48c14
DTSTAMP:20260423T112919Z
SUMMARY:Tour 7 Grüntour
DESCRIPTION: 
URL:https://m.winterthur.ch/index.php?apid=680863940
DTSTART;TZID=Europe/Zurich:20270701T070000
DTEND;TZID=Europe/Zurich:20270701T073000
END:VEVENT
BEGIN:VEVENT
UID:69ea028f48c1e
DTSTAMP:20260423T112919Z
SUMMARY:Tour 7 Grüntour
DESCRIPTION: 
URL:https://m.winterthur.ch/index.php?apid=680863940
DTSTART;TZID=Europe/Zurich:20270708T070000
DTEND;TZID=Europe/Zurich:20270708T073000
END:VEVENT
BEGIN:VEVENT
UID:69ea028f48c29
DTSTAMP:20260423T112919Z
SUMMARY:Tour 7 Grüntour
DESCRIPTION: 
URL:https://m.winterthur.ch/index.php?apid=680863940
DTSTART;TZID=Europe/Zurich:20270715T070000
DTEND;TZID=Europe/Zurich:20270715T073000
END:VEVENT
BEGIN:VEVENT
UID:69ea028f48c34
DTSTAMP:20260423T112919Z
SUMMARY:Tour 7 Grüntour
DESCRIPTION: 
URL:https://m.winterthur.ch/index.php?apid=680863940
DTSTART;TZID=Europe/Zurich:20270722T070000
DTEND;TZID=Europe/Zurich:20270722T073000
END:VEVENT
BEGIN:VEVENT
UID:69ea028f48c3e
DTSTAMP:20260423T112919Z
SUMMARY:Tour 7 Grüntour
DESCRIPTION: 
URL:https://m.winterthur.ch/index.php?apid=680863940
DTSTART;TZID=Europe/Zurich:20270729T070000
DTEND;TZID=Europe/Zurich:20270729T073000
END:VEVENT
BEGIN:VEVENT
UID:69ea028f48c48
DTSTAMP:20260423T112919Z
SUMMARY:Tour 7 Grüntour
DESCRIPTION: 
URL:https://m.winterthur.ch/index.php?apid=680863940
DTSTART;TZID=Europe/Zurich:20270805T070000
DTEND;TZID=Europe/Zurich:20270805T073000
END:VEVENT
BEGIN:VEVENT
UID:69ea028f48c53
DTSTAMP:20260423T112919Z
SUMMARY:Tour 7 Grüntour
DESCRIPTION: 
URL:https://m.winterthur.ch/index.php?apid=680863940
DTSTART;TZID=Europe/Zurich:20270812T070000
DTEND;TZID=Europe/Zurich:20270812T073000
END:VEVENT
BEGIN:VEVENT
UID:69ea028f48c5d
DTSTAMP:20260423T112919Z
SUMMARY:Tour 7 Grüntour
DESCRIPTION: 
URL:https://m.winterthur.ch/index.php?apid=680863940
DTSTART;TZID=Europe/Zurich:20270819T070000
DTEND;TZID=Europe/Zurich:20270819T073000
END:VEVENT
BEGIN:VEVENT
UID:69ea028f48c67
DTSTAMP:20260423T112919Z
SUMMARY:Tour 7 Grüntour
DESCRIPTION: 
URL:https://m.winterthur.ch/index.php?apid=680863940
DTSTART;TZID=Europe/Zurich:20270826T070000
DTEND;TZID=Europe/Zurich:20270826T073000
END:VEVENT
BEGIN:VEVENT
UID:69ea028f48c71
DTSTAMP:20260423T112919Z
SUMMARY:Tour 7 Grüntour
DESCRIPTION: 
URL:https://m.winterthur.ch/index.php?apid=680863940
DTSTART;TZID=Europe/Zurich:20270902T070000
DTEND;TZID=Europe/Zurich:20270902T073000
END:VEVENT
BEGIN:VEVENT
UID:69ea028f48c7b
DTSTAMP:20260423T112919Z
SUMMARY:Tour 7 Grüntour
DESCRIPTION: 
URL:https://m.winterthur.ch/index.php?apid=680863940
DTSTART;TZID=Europe/Zurich:20270909T070000
DTEND;TZID=Europe/Zurich:20270909T073000
END:VEVENT
BEGIN:VEVENT
UID:69ea028f48c85
DTSTAMP:20260423T112919Z
SUMMARY:Tour 7 Grüntour
DESCRIPTION: 
URL:https://m.winterthur.ch/index.php?apid=680863940
DTSTART;TZID=Europe/Zurich:20270916T070000
DTEND;TZID=Europe/Zurich:20270916T073000
END:VEVENT
BEGIN:VEVENT
UID:69ea028f48c8f
DTSTAMP:20260423T112919Z
SUMMARY:Tour 7 Grüntour
DESCRIPTION: 
URL:https://m.winterthur.ch/index.php?apid=680863940
DTSTART;TZID=Europe/Zurich:20270923T070000
DTEND;TZID=Europe/Zurich:20270923T073000
END:VEVENT
BEGIN:VEVENT
UID:69ea028f48c9a
DTSTAMP:20260423T112919Z
SUMMARY:Tour 7 Grüntour
DESCRIPTION: 
URL:https://m.winterthur.ch/index.php?apid=680863940
DTSTART;TZID=Europe/Zurich:20270930T070000
DTEND;TZID=Europe/Zurich:20270930T073000
END:VEVENT
BEGIN:VEVENT
UID:69ea028f48ca4
DTSTAMP:20260423T112919Z
SUMMARY:Tour 7 Grüntour
DESCRIPTION: 
URL:https://m.winterthur.ch/index.php?apid=680863940
DTSTART;TZID=Europe/Zurich:20271007T070000
DTEND;TZID=Europe/Zurich:20271007T073000
END:VEVENT
BEGIN:VEVENT
UID:69ea028f48cae
DTSTAMP:20260423T112919Z
SUMMARY:Tour 7 Grüntour
DESCRIPTION: 
URL:https://m.winterthur.ch/index.php?apid=680863940
DTSTART;TZID=Europe/Zurich:20271014T070000
DTEND;TZID=Europe/Zurich:20271014T073000
END:VEVENT
BEGIN:VEVENT
UID:69ea028f48cb8
DTSTAMP:20260423T112919Z
SUMMARY:Tour 7 Grüntour
DESCRIPTION: 
URL:https://m.winterthur.ch/index.php?apid=680863940
DTSTART;TZID=Europe/Zurich:20271021T070000
DTEND;TZID=Europe/Zurich:20271021T073000
END:VEVENT
BEGIN:VEVENT
UID:69ea028f48cc2
DTSTAMP:20260423T112919Z
SUMMARY:Tour 7 Grüntour
DESCRIPTION: 
URL:https://m.winterthur.ch/index.php?apid=680863940
DTSTART;TZID=Europe/Zurich:20271028T070000
DTEND;TZID=Europe/Zurich:20271028T073000
END:VEVENT
BEGIN:VEVENT
UID:69ea028f48ccc
DTSTAMP:20260423T112919Z
SUMMARY:Tour 7 Grüntour
DESCRIPTION: 
URL:https://m.winterthur.ch/index.php?apid=680863940
DTSTART;TZID=Europe/Zurich:20271104T070000
DTEND;TZID=Europe/Zurich:20271104T073000
END:VEVENT
BEGIN:VEVENT
UID:69ea028f48cd6
DTSTAMP:20260423T112919Z
SUMMARY:Tour 7 Grüntour
DESCRIPTION: 
URL:https://m.winterthur.ch/index.php?apid=680863940
DTSTART;TZID=Europe/Zurich:20271111T070000
DTEND;TZID=Europe/Zurich:20271111T073000
END:VEVENT
BEGIN:VEVENT
UID:69ea028f48ce0
DTSTAMP:20260423T112919Z
SUMMARY:Tour 7 Grüntour
DESCRIPTION: 
URL:https://m.winterthur.ch/index.php?apid=680863940
DTSTART;TZID=Europe/Zurich:20271118T070000
DTEND;TZID=Europe/Zurich:20271118T073000
END:VEVENT
BEGIN:VEVENT
UID:69ea028f48cea
DTSTAMP:20260423T112919Z
SUMMARY:Tour 7 Grüntour
DESCRIPTION: 
URL:https://m.winterthur.ch/index.php?apid=680863940
DTSTART;TZID=Europe/Zurich:20271125T070000
DTEND;TZID=Europe/Zurich:20271125T073000
END:VEVENT
BEGIN:VEVENT
UID:69ea028f48cf3
DTSTAMP:20260423T112919Z
SUMMARY:Tour 7 Grüntour
DESCRIPTION: 
URL:https://m.winterthur.ch/index.php?apid=680863940
DTSTART;TZID=Europe/Zurich:20271202T070000
DTEND;TZID=Europe/Zurich:20271202T073000
END:VEVENT
BEGIN:VEVENT
UID:69ea028f48cfd
DTSTAMP:20260423T112919Z
SUMMARY:Tour 7 Grüntour
DESCRIPTION: 
URL:https://m.winterthur.ch/index.php?apid=680863940
DTSTART;TZID=Europe/Zurich:20271209T070000
DTEND;TZID=Europe/Zurich:20271209T073000
END:VEVENT
BEGIN:VEVENT
UID:69ea028f48d07
DTSTAMP:20260423T112919Z
SUMMARY:Tour 7 Grüntour
DESCRIPTION: 
URL:https://m.winterthur.ch/index.php?apid=680863940
DTSTART;TZID=Europe/Zurich:20271216T070000
DTEND;TZID=Europe/Zurich:20271216T073000
END:VEVENT
BEGIN:VEVENT
UID:69ea028f48d11
DTSTAMP:20260423T112919Z
SUMMARY:Tour 7 Grüntour
DESCRIPTION: 
URL:https://m.winterthur.ch/index.php?apid=680863940
DTSTART;TZID=Europe/Zurich:20271223T070000
DTEND;TZID=Europe/Zurich:20271223T073000
END:VEVENT
BEGIN:VEVENT
UID:69ea028f48d1b
DTSTAMP:20260423T112919Z
SUMMARY:Tour 7 Grüntour
DESCRIPTION: 
URL:https://m.winterthur.ch/index.php?apid=680863940
DTSTART;TZID=Europe/Zurich:20271230T070000
DTEND;TZID=Europe/Zurich:20271230T073000
END:VEVENT
END:VCALENDAR