BEGIN:VCALENDAR
VERSION:2.0
PRODID:spatie/icalendar-generator
NAME:Stadt Winterthur Abfall
X-WR-CALNAME:Stadt Winterthur Abfall
BEGIN:VTIMEZONE
TZID:Europe/Zurich
BEGIN:STANDARD
DTSTART:20251026T030000
TZOFFSETFROM:+0200
TZOFFSETTO:+0100
END:STANDARD
BEGIN:DAYLIGHT
DTSTART:20260329T010000
TZOFFSETFROM:+0100
TZOFFSETTO:+0200
END:DAYLIGHT
BEGIN:STANDARD
DTSTART:20261025T030000
TZOFFSETFROM:+0200
TZOFFSETTO:+0100
END:STANDARD
BEGIN:DAYLIGHT
DTSTART:20270328T010000
TZOFFSETFROM:+0100
TZOFFSETTO:+0200
END:DAYLIGHT
BEGIN:STANDARD
DTSTART:20271031T030000
TZOFFSETFROM:+0200
TZOFFSETTO:+0100
END:STANDARD
BEGIN:DAYLIGHT
DTSTART:20280326T010000
TZOFFSETFROM:+0100
TZOFFSETTO:+0200
END:DAYLIGHT
END:VTIMEZONE
BEGIN:VTIMEZONE
TZID:UTC
BEGIN:STANDARD
DTSTART:20250727T112848
TZOFFSETFROM:+0000
TZOFFSETTO:+0000
END:STANDARD
END:VTIMEZONE
BEGIN:VEVENT
UID:69ea0270756be
DTSTAMP:20260423T112848Z
SUMMARY:Tour 7 Papier/Karton
DESCRIPTION: 
URL:https://m.winterthur.ch/index.php?apid=3540254
DTSTART;TZID=Europe/Zurich:20260430T070000
DTEND;TZID=Europe/Zurich:20260430T073000
END:VEVENT
BEGIN:VEVENT
UID:69ea027075713
DTSTAMP:20260423T112848Z
SUMMARY:Tour 7 Papier/Karton
DESCRIPTION: 
URL:https://m.winterthur.ch/index.php?apid=3540254
DTSTART;TZID=Europe/Zurich:20260528T070000
DTEND;TZID=Europe/Zurich:20260528T073000
END:VEVENT
BEGIN:VEVENT
UID:69ea027075721
DTSTAMP:20260423T112848Z
SUMMARY:Tour 7 Papier/Karton
DESCRIPTION: 
URL:https://m.winterthur.ch/index.php?apid=3540254
DTSTART;TZID=Europe/Zurich:20260611T070000
DTEND;TZID=Europe/Zurich:20260611T073000
END:VEVENT
BEGIN:VEVENT
UID:69ea02707572b
DTSTAMP:20260423T112848Z
SUMMARY:Tour 7 Papier/Karton
DESCRIPTION: 
URL:https://m.winterthur.ch/index.php?apid=3540254
DTSTART;TZID=Europe/Zurich:20260625T070000
DTEND;TZID=Europe/Zurich:20260625T073000
END:VEVENT
BEGIN:VEVENT
UID:69ea027075735
DTSTAMP:20260423T112848Z
SUMMARY:Tour 7 Papier/Karton
DESCRIPTION: 
URL:https://m.winterthur.ch/index.php?apid=3540254
DTSTART;TZID=Europe/Zurich:20260709T070000
DTEND;TZID=Europe/Zurich:20260709T073000
END:VEVENT
BEGIN:VEVENT
UID:69ea02707573e
DTSTAMP:20260423T112848Z
SUMMARY:Tour 7 Papier/Karton
DESCRIPTION: 
URL:https://m.winterthur.ch/index.php?apid=3540254
DTSTART;TZID=Europe/Zurich:20260723T070000
DTEND;TZID=Europe/Zurich:20260723T073000
END:VEVENT
BEGIN:VEVENT
UID:69ea027075748
DTSTAMP:20260423T112848Z
SUMMARY:Tour 7 Papier/Karton
DESCRIPTION: 
URL:https://m.winterthur.ch/index.php?apid=3540254
DTSTART;TZID=Europe/Zurich:20260806T070000
DTEND;TZID=Europe/Zurich:20260806T073000
END:VEVENT
BEGIN:VEVENT
UID:69ea027075751
DTSTAMP:20260423T112848Z
SUMMARY:Tour 7 Papier/Karton
DESCRIPTION: 
URL:https://m.winterthur.ch/index.php?apid=3540254
DTSTART;TZID=Europe/Zurich:20260820T070000
DTEND;TZID=Europe/Zurich:20260820T073000
END:VEVENT
BEGIN:VEVENT
UID:69ea02707575a
DTSTAMP:20260423T112848Z
SUMMARY:Tour 7 Papier/Karton
DESCRIPTION: 
URL:https://m.winterthur.ch/index.php?apid=3540254
DTSTART;TZID=Europe/Zurich:20260903T070000
DTEND;TZID=Europe/Zurich:20260903T073000
END:VEVENT
BEGIN:VEVENT
UID:69ea027075763
DTSTAMP:20260423T112848Z
SUMMARY:Tour 7 Papier/Karton
DESCRIPTION: 
URL:https://m.winterthur.ch/index.php?apid=3540254
DTSTART;TZID=Europe/Zurich:20260917T070000
DTEND;TZID=Europe/Zurich:20260917T073000
END:VEVENT
BEGIN:VEVENT
UID:69ea02707576d
DTSTAMP:20260423T112848Z
SUMMARY:Tour 7 Papier/Karton
DESCRIPTION: 
URL:https://m.winterthur.ch/index.php?apid=3540254
DTSTART;TZID=Europe/Zurich:20261001T070000
DTEND;TZID=Europe/Zurich:20261001T073000
END:VEVENT
BEGIN:VEVENT
UID:69ea027075776
DTSTAMP:20260423T112848Z
SUMMARY:Tour 7 Papier/Karton
DESCRIPTION: 
URL:https://m.winterthur.ch/index.php?apid=3540254
DTSTART;TZID=Europe/Zurich:20261015T070000
DTEND;TZID=Europe/Zurich:20261015T073000
END:VEVENT
BEGIN:VEVENT
UID:69ea02707577f
DTSTAMP:20260423T112848Z
SUMMARY:Tour 7 Papier/Karton
DESCRIPTION: 
URL:https://m.winterthur.ch/index.php?apid=3540254
DTSTART;TZID=Europe/Zurich:20261029T070000
DTEND;TZID=Europe/Zurich:20261029T073000
END:VEVENT
BEGIN:VEVENT
UID:69ea027075788
DTSTAMP:20260423T112848Z
SUMMARY:Tour 7 Papier/Karton
DESCRIPTION: 
URL:https://m.winterthur.ch/index.php?apid=3540254
DTSTART;TZID=Europe/Zurich:20261112T070000
DTEND;TZID=Europe/Zurich:20261112T073000
END:VEVENT
BEGIN:VEVENT
UID:69ea027075791
DTSTAMP:20260423T112848Z
SUMMARY:Tour 7 Papier/Karton
DESCRIPTION: 
URL:https://m.winterthur.ch/index.php?apid=3540254
DTSTART;TZID=Europe/Zurich:20261126T070000
DTEND;TZID=Europe/Zurich:20261126T073000
END:VEVENT
BEGIN:VEVENT
UID:69ea02707579a
DTSTAMP:20260423T112848Z
SUMMARY:Tour 7 Papier/Karton
DESCRIPTION: 
URL:https://m.winterthur.ch/index.php?apid=3540254
DTSTART;TZID=Europe/Zurich:20261210T070000
DTEND;TZID=Europe/Zurich:20261210T073000
END:VEVENT
BEGIN:VEVENT
UID:69ea0270757a3
DTSTAMP:20260423T112848Z
SUMMARY:Tour 7 Papier/Karton
DESCRIPTION: 
URL:https://m.winterthur.ch/index.php?apid=3540254
DTSTART;TZID=Europe/Zurich:20261224T070000
DTEND;TZID=Europe/Zurich:20261224T073000
END:VEVENT
BEGIN:VEVENT
UID:69ea0270757ac
DTSTAMP:20260423T112848Z
SUMMARY:Tour 7 Papier/Karton
DESCRIPTION: 
URL:https://m.winterthur.ch/index.php?apid=3540254
DTSTART;TZID=Europe/Zurich:20270107T070000
DTEND;TZID=Europe/Zurich:20270107T073000
END:VEVENT
BEGIN:VEVENT
UID:69ea0270757b5
DTSTAMP:20260423T112848Z
SUMMARY:Tour 7 Papier/Karton
DESCRIPTION: 
URL:https://m.winterthur.ch/index.php?apid=3540254
DTSTART;TZID=Europe/Zurich:20270121T070000
DTEND;TZID=Europe/Zurich:20270121T073000
END:VEVENT
BEGIN:VEVENT
UID:69ea0270757be
DTSTAMP:20260423T112848Z
SUMMARY:Tour 7 Papier/Karton
DESCRIPTION: 
URL:https://m.winterthur.ch/index.php?apid=3540254
DTSTART;TZID=Europe/Zurich:20270204T070000
DTEND;TZID=Europe/Zurich:20270204T073000
END:VEVENT
BEGIN:VEVENT
UID:69ea0270757c8
DTSTAMP:20260423T112848Z
SUMMARY:Tour 7 Papier/Karton
DESCRIPTION: 
URL:https://m.winterthur.ch/index.php?apid=3540254
DTSTART;TZID=Europe/Zurich:20270218T070000
DTEND;TZID=Europe/Zurich:20270218T073000
END:VEVENT
BEGIN:VEVENT
UID:69ea0270757d1
DTSTAMP:20260423T112848Z
SUMMARY:Tour 7 Papier/Karton
DESCRIPTION: 
URL:https://m.winterthur.ch/index.php?apid=3540254
DTSTART;TZID=Europe/Zurich:20270304T070000
DTEND;TZID=Europe/Zurich:20270304T073000
END:VEVENT
BEGIN:VEVENT
UID:69ea0270757d9
DTSTAMP:20260423T112848Z
SUMMARY:Tour 7 Papier/Karton
DESCRIPTION: 
URL:https://m.winterthur.ch/index.php?apid=3540254
DTSTART;TZID=Europe/Zurich:20270318T070000
DTEND;TZID=Europe/Zurich:20270318T073000
END:VEVENT
BEGIN:VEVENT
UID:69ea0270757e3
DTSTAMP:20260423T112848Z
SUMMARY:Tour 7 Papier/Karton
DESCRIPTION: 
URL:https://m.winterthur.ch/index.php?apid=3540254
DTSTART;TZID=Europe/Zurich:20270401T070000
DTEND;TZID=Europe/Zurich:20270401T073000
END:VEVENT
BEGIN:VEVENT
UID:69ea0270757eb
DTSTAMP:20260423T112848Z
SUMMARY:Tour 7 Papier/Karton
DESCRIPTION: 
URL:https://m.winterthur.ch/index.php?apid=3540254
DTSTART;TZID=Europe/Zurich:20270415T070000
DTEND;TZID=Europe/Zurich:20270415T073000
END:VEVENT
BEGIN:VEVENT
UID:69ea0270757f5
DTSTAMP:20260423T112848Z
SUMMARY:Tour 7 Papier/Karton
DESCRIPTION: 
URL:https://m.winterthur.ch/index.php?apid=3540254
DTSTART;TZID=Europe/Zurich:20270429T070000
DTEND;TZID=Europe/Zurich:20270429T073000
END:VEVENT
BEGIN:VEVENT
UID:69ea0270757fd
DTSTAMP:20260423T112848Z
SUMMARY:Tour 7 Papier/Karton
DESCRIPTION: 
URL:https://m.winterthur.ch/index.php?apid=3540254
DTSTART;TZID=Europe/Zurich:20270513T070000
DTEND;TZID=Europe/Zurich:20270513T073000
END:VEVENT
BEGIN:VEVENT
UID:69ea027075806
DTSTAMP:20260423T112848Z
SUMMARY:Tour 7 Papier/Karton
DESCRIPTION: 
URL:https://m.winterthur.ch/index.php?apid=3540254
DTSTART;TZID=Europe/Zurich:20270527T070000
DTEND;TZID=Europe/Zurich:20270527T073000
END:VEVENT
BEGIN:VEVENT
UID:69ea02707580f
DTSTAMP:20260423T112848Z
SUMMARY:Tour 7 Papier/Karton
DESCRIPTION: 
URL:https://m.winterthur.ch/index.php?apid=3540254
DTSTART;TZID=Europe/Zurich:20270610T070000
DTEND;TZID=Europe/Zurich:20270610T073000
END:VEVENT
BEGIN:VEVENT
UID:69ea027075818
DTSTAMP:20260423T112848Z
SUMMARY:Tour 7 Papier/Karton
DESCRIPTION: 
URL:https://m.winterthur.ch/index.php?apid=3540254
DTSTART;TZID=Europe/Zurich:20270624T070000
DTEND;TZID=Europe/Zurich:20270624T073000
END:VEVENT
BEGIN:VEVENT
UID:69ea027075820
DTSTAMP:20260423T112848Z
SUMMARY:Tour 7 Papier/Karton
DESCRIPTION: 
URL:https://m.winterthur.ch/index.php?apid=3540254
DTSTART;TZID=Europe/Zurich:20270708T070000
DTEND;TZID=Europe/Zurich:20270708T073000
END:VEVENT
BEGIN:VEVENT
UID:69ea02707582a
DTSTAMP:20260423T112848Z
SUMMARY:Tour 7 Papier/Karton
DESCRIPTION: 
URL:https://m.winterthur.ch/index.php?apid=3540254
DTSTART;TZID=Europe/Zurich:20270722T070000
DTEND;TZID=Europe/Zurich:20270722T073000
END:VEVENT
BEGIN:VEVENT
UID:69ea027075833
DTSTAMP:20260423T112848Z
SUMMARY:Tour 7 Papier/Karton
DESCRIPTION: 
URL:https://m.winterthur.ch/index.php?apid=3540254
DTSTART;TZID=Europe/Zurich:20270805T070000
DTEND;TZID=Europe/Zurich:20270805T073000
END:VEVENT
BEGIN:VEVENT
UID:69ea02707583c
DTSTAMP:20260423T112848Z
SUMMARY:Tour 7 Papier/Karton
DESCRIPTION: 
URL:https://m.winterthur.ch/index.php?apid=3540254
DTSTART;TZID=Europe/Zurich:20270819T070000
DTEND;TZID=Europe/Zurich:20270819T073000
END:VEVENT
BEGIN:VEVENT
UID:69ea027075846
DTSTAMP:20260423T112848Z
SUMMARY:Tour 7 Papier/Karton
DESCRIPTION: 
URL:https://m.winterthur.ch/index.php?apid=3540254
DTSTART;TZID=Europe/Zurich:20270902T070000
DTEND;TZID=Europe/Zurich:20270902T073000
END:VEVENT
BEGIN:VEVENT
UID:69ea02707584f
DTSTAMP:20260423T112848Z
SUMMARY:Tour 7 Papier/Karton
DESCRIPTION: 
URL:https://m.winterthur.ch/index.php?apid=3540254
DTSTART;TZID=Europe/Zurich:20270916T070000
DTEND;TZID=Europe/Zurich:20270916T073000
END:VEVENT
BEGIN:VEVENT
UID:69ea027075859
DTSTAMP:20260423T112848Z
SUMMARY:Tour 7 Papier/Karton
DESCRIPTION: 
URL:https://m.winterthur.ch/index.php?apid=3540254
DTSTART;TZID=Europe/Zurich:20270930T070000
DTEND;TZID=Europe/Zurich:20270930T073000
END:VEVENT
BEGIN:VEVENT
UID:69ea027075862
DTSTAMP:20260423T112848Z
SUMMARY:Tour 7 Papier/Karton
DESCRIPTION: 
URL:https://m.winterthur.ch/index.php?apid=3540254
DTSTART;TZID=Europe/Zurich:20271014T070000
DTEND;TZID=Europe/Zurich:20271014T073000
END:VEVENT
BEGIN:VEVENT
UID:69ea02707586c
DTSTAMP:20260423T112848Z
SUMMARY:Tour 7 Papier/Karton
DESCRIPTION: 
URL:https://m.winterthur.ch/index.php?apid=3540254
DTSTART;TZID=Europe/Zurich:20271028T070000
DTEND;TZID=Europe/Zurich:20271028T073000
END:VEVENT
BEGIN:VEVENT
UID:69ea027075875
DTSTAMP:20260423T112848Z
SUMMARY:Tour 7 Papier/Karton
DESCRIPTION: 
URL:https://m.winterthur.ch/index.php?apid=3540254
DTSTART;TZID=Europe/Zurich:20271111T070000
DTEND;TZID=Europe/Zurich:20271111T073000
END:VEVENT
BEGIN:VEVENT
UID:69ea02707587e
DTSTAMP:20260423T112848Z
SUMMARY:Tour 7 Papier/Karton
DESCRIPTION: 
URL:https://m.winterthur.ch/index.php?apid=3540254
DTSTART;TZID=Europe/Zurich:20271125T070000
DTEND;TZID=Europe/Zurich:20271125T073000
END:VEVENT
BEGIN:VEVENT
UID:69ea027075887
DTSTAMP:20260423T112848Z
SUMMARY:Tour 7 Papier/Karton
DESCRIPTION: 
URL:https://m.winterthur.ch/index.php?apid=3540254
DTSTART;TZID=Europe/Zurich:20271209T070000
DTEND;TZID=Europe/Zurich:20271209T073000
END:VEVENT
BEGIN:VEVENT
UID:69ea027075890
DTSTAMP:20260423T112848Z
SUMMARY:Tour 7 Papier/Karton
DESCRIPTION: 
URL:https://m.winterthur.ch/index.php?apid=3540254
DTSTART;TZID=Europe/Zurich:20271223T070000
DTEND;TZID=Europe/Zurich:20271223T073000
END:VEVENT
END:VCALENDAR