BEGIN:VCALENDAR
VERSION:2.0
PRODID:spatie/icalendar-generator
NAME:Stadt Winterthur Abfall
X-WR-CALNAME:Stadt Winterthur Abfall
BEGIN:VTIMEZONE
TZID:Europe/Zurich
BEGIN:STANDARD
DTSTART:20251026T030000
TZOFFSETFROM:+0200
TZOFFSETTO:+0100
END:STANDARD
BEGIN:DAYLIGHT
DTSTART:20260329T010000
TZOFFSETFROM:+0100
TZOFFSETTO:+0200
END:DAYLIGHT
BEGIN:STANDARD
DTSTART:20261025T030000
TZOFFSETFROM:+0200
TZOFFSETTO:+0100
END:STANDARD
BEGIN:DAYLIGHT
DTSTART:20270328T010000
TZOFFSETFROM:+0100
TZOFFSETTO:+0200
END:DAYLIGHT
BEGIN:STANDARD
DTSTART:20271031T030000
TZOFFSETFROM:+0200
TZOFFSETTO:+0100
END:STANDARD
BEGIN:DAYLIGHT
DTSTART:20280326T010000
TZOFFSETFROM:+0100
TZOFFSETTO:+0200
END:DAYLIGHT
END:VTIMEZONE
BEGIN:VTIMEZONE
TZID:UTC
BEGIN:STANDARD
DTSTART:20250727T112919
TZOFFSETFROM:+0000
TZOFFSETTO:+0000
END:STANDARD
END:VTIMEZONE
BEGIN:VEVENT
UID:69ea028fc7dd7
DTSTAMP:20260423T112919Z
SUMMARY:Tour 7 Kehricht
DESCRIPTION: 
URL:https://m.winterthur.ch/index.php?apid=1067618
DTSTART;TZID=Europe/Zurich:20260423T070000
DTEND;TZID=Europe/Zurich:20260423T073000
END:VEVENT
BEGIN:VEVENT
UID:69ea028fc7e2c
DTSTAMP:20260423T112919Z
SUMMARY:Tour 7 Kehricht
DESCRIPTION: 
URL:https://m.winterthur.ch/index.php?apid=1067618
DTSTART;TZID=Europe/Zurich:20260430T070000
DTEND;TZID=Europe/Zurich:20260430T073000
END:VEVENT
BEGIN:VEVENT
UID:69ea028fc7e3a
DTSTAMP:20260423T112919Z
SUMMARY:Tour 7 Kehricht
DESCRIPTION: 
URL:https://m.winterthur.ch/index.php?apid=1067618
DTSTART;TZID=Europe/Zurich:20260507T070000
DTEND;TZID=Europe/Zurich:20260507T073000
END:VEVENT
BEGIN:VEVENT
UID:69ea028fc7e44
DTSTAMP:20260423T112919Z
SUMMARY:Tour 7 Kehricht
DESCRIPTION: 
URL:https://m.winterthur.ch/index.php?apid=1067618
DTSTART;TZID=Europe/Zurich:20260515T070000
DTEND;TZID=Europe/Zurich:20260515T073000
END:VEVENT
BEGIN:VEVENT
UID:69ea028fc7e4e
DTSTAMP:20260423T112919Z
SUMMARY:Tour 7 Kehricht
DESCRIPTION: 
URL:https://m.winterthur.ch/index.php?apid=1067618
DTSTART;TZID=Europe/Zurich:20260521T070000
DTEND;TZID=Europe/Zurich:20260521T073000
END:VEVENT
BEGIN:VEVENT
UID:69ea028fc7e57
DTSTAMP:20260423T112919Z
SUMMARY:Tour 7 Kehricht
DESCRIPTION: 
URL:https://m.winterthur.ch/index.php?apid=1067618
DTSTART;TZID=Europe/Zurich:20260528T070000
DTEND;TZID=Europe/Zurich:20260528T073000
END:VEVENT
BEGIN:VEVENT
UID:69ea028fc7e5f
DTSTAMP:20260423T112919Z
SUMMARY:Tour 7 Kehricht
DESCRIPTION: 
URL:https://m.winterthur.ch/index.php?apid=1067618
DTSTART;TZID=Europe/Zurich:20260604T070000
DTEND;TZID=Europe/Zurich:20260604T073000
END:VEVENT
BEGIN:VEVENT
UID:69ea028fc7e68
DTSTAMP:20260423T112919Z
SUMMARY:Tour 7 Kehricht
DESCRIPTION: 
URL:https://m.winterthur.ch/index.php?apid=1067618
DTSTART;TZID=Europe/Zurich:20260611T070000
DTEND;TZID=Europe/Zurich:20260611T073000
END:VEVENT
BEGIN:VEVENT
UID:69ea028fc7e71
DTSTAMP:20260423T112919Z
SUMMARY:Tour 7 Kehricht
DESCRIPTION: 
URL:https://m.winterthur.ch/index.php?apid=1067618
DTSTART;TZID=Europe/Zurich:20260618T070000
DTEND;TZID=Europe/Zurich:20260618T073000
END:VEVENT
BEGIN:VEVENT
UID:69ea028fc7e7a
DTSTAMP:20260423T112919Z
SUMMARY:Tour 7 Kehricht
DESCRIPTION: 
URL:https://m.winterthur.ch/index.php?apid=1067618
DTSTART;TZID=Europe/Zurich:20260625T070000
DTEND;TZID=Europe/Zurich:20260625T073000
END:VEVENT
BEGIN:VEVENT
UID:69ea028fc7e83
DTSTAMP:20260423T112919Z
SUMMARY:Tour 7 Kehricht
DESCRIPTION: 
URL:https://m.winterthur.ch/index.php?apid=1067618
DTSTART;TZID=Europe/Zurich:20260702T070000
DTEND;TZID=Europe/Zurich:20260702T073000
END:VEVENT
BEGIN:VEVENT
UID:69ea028fc7e8c
DTSTAMP:20260423T112919Z
SUMMARY:Tour 7 Kehricht
DESCRIPTION: 
URL:https://m.winterthur.ch/index.php?apid=1067618
DTSTART;TZID=Europe/Zurich:20260709T070000
DTEND;TZID=Europe/Zurich:20260709T073000
END:VEVENT
BEGIN:VEVENT
UID:69ea028fc7e94
DTSTAMP:20260423T112919Z
SUMMARY:Tour 7 Kehricht
DESCRIPTION: 
URL:https://m.winterthur.ch/index.php?apid=1067618
DTSTART;TZID=Europe/Zurich:20260716T070000
DTEND;TZID=Europe/Zurich:20260716T073000
END:VEVENT
BEGIN:VEVENT
UID:69ea028fc7e9d
DTSTAMP:20260423T112919Z
SUMMARY:Tour 7 Kehricht
DESCRIPTION: 
URL:https://m.winterthur.ch/index.php?apid=1067618
DTSTART;TZID=Europe/Zurich:20260723T070000
DTEND;TZID=Europe/Zurich:20260723T073000
END:VEVENT
BEGIN:VEVENT
UID:69ea028fc7ea6
DTSTAMP:20260423T112919Z
SUMMARY:Tour 7 Kehricht
DESCRIPTION: 
URL:https://m.winterthur.ch/index.php?apid=1067618
DTSTART;TZID=Europe/Zurich:20260730T070000
DTEND;TZID=Europe/Zurich:20260730T073000
END:VEVENT
BEGIN:VEVENT
UID:69ea028fc7eb0
DTSTAMP:20260423T112919Z
SUMMARY:Tour 7 Kehricht
DESCRIPTION: 
URL:https://m.winterthur.ch/index.php?apid=1067618
DTSTART;TZID=Europe/Zurich:20260806T070000
DTEND;TZID=Europe/Zurich:20260806T073000
END:VEVENT
BEGIN:VEVENT
UID:69ea028fc7eb8
DTSTAMP:20260423T112919Z
SUMMARY:Tour 7 Kehricht
DESCRIPTION: 
URL:https://m.winterthur.ch/index.php?apid=1067618
DTSTART;TZID=Europe/Zurich:20260813T070000
DTEND;TZID=Europe/Zurich:20260813T073000
END:VEVENT
BEGIN:VEVENT
UID:69ea028fc7ec2
DTSTAMP:20260423T112919Z
SUMMARY:Tour 7 Kehricht
DESCRIPTION: 
URL:https://m.winterthur.ch/index.php?apid=1067618
DTSTART;TZID=Europe/Zurich:20260820T070000
DTEND;TZID=Europe/Zurich:20260820T073000
END:VEVENT
BEGIN:VEVENT
UID:69ea028fc7eca
DTSTAMP:20260423T112919Z
SUMMARY:Tour 7 Kehricht
DESCRIPTION: 
URL:https://m.winterthur.ch/index.php?apid=1067618
DTSTART;TZID=Europe/Zurich:20260827T070000
DTEND;TZID=Europe/Zurich:20260827T073000
END:VEVENT
BEGIN:VEVENT
UID:69ea028fc7ed3
DTSTAMP:20260423T112919Z
SUMMARY:Tour 7 Kehricht
DESCRIPTION: 
URL:https://m.winterthur.ch/index.php?apid=1067618
DTSTART;TZID=Europe/Zurich:20260903T070000
DTEND;TZID=Europe/Zurich:20260903T073000
END:VEVENT
BEGIN:VEVENT
UID:69ea028fc7ede
DTSTAMP:20260423T112919Z
SUMMARY:Tour 7 Kehricht
DESCRIPTION: 
URL:https://m.winterthur.ch/index.php?apid=1067618
DTSTART;TZID=Europe/Zurich:20260910T070000
DTEND;TZID=Europe/Zurich:20260910T073000
END:VEVENT
BEGIN:VEVENT
UID:69ea028fc7ee7
DTSTAMP:20260423T112919Z
SUMMARY:Tour 7 Kehricht
DESCRIPTION: 
URL:https://m.winterthur.ch/index.php?apid=1067618
DTSTART;TZID=Europe/Zurich:20260917T070000
DTEND;TZID=Europe/Zurich:20260917T073000
END:VEVENT
BEGIN:VEVENT
UID:69ea028fc7ef5
DTSTAMP:20260423T112919Z
SUMMARY:Tour 7 Kehricht
DESCRIPTION: 
URL:https://m.winterthur.ch/index.php?apid=1067618
DTSTART;TZID=Europe/Zurich:20260924T070000
DTEND;TZID=Europe/Zurich:20260924T073000
END:VEVENT
BEGIN:VEVENT
UID:69ea028fc7eff
DTSTAMP:20260423T112919Z
SUMMARY:Tour 7 Kehricht
DESCRIPTION: 
URL:https://m.winterthur.ch/index.php?apid=1067618
DTSTART;TZID=Europe/Zurich:20261001T070000
DTEND;TZID=Europe/Zurich:20261001T073000
END:VEVENT
BEGIN:VEVENT
UID:69ea028fc7f08
DTSTAMP:20260423T112919Z
SUMMARY:Tour 7 Kehricht
DESCRIPTION: 
URL:https://m.winterthur.ch/index.php?apid=1067618
DTSTART;TZID=Europe/Zurich:20261008T070000
DTEND;TZID=Europe/Zurich:20261008T073000
END:VEVENT
BEGIN:VEVENT
UID:69ea028fc7f11
DTSTAMP:20260423T112919Z
SUMMARY:Tour 7 Kehricht
DESCRIPTION: 
URL:https://m.winterthur.ch/index.php?apid=1067618
DTSTART;TZID=Europe/Zurich:20261015T070000
DTEND;TZID=Europe/Zurich:20261015T073000
END:VEVENT
BEGIN:VEVENT
UID:69ea028fc7f1a
DTSTAMP:20260423T112919Z
SUMMARY:Tour 7 Kehricht
DESCRIPTION: 
URL:https://m.winterthur.ch/index.php?apid=1067618
DTSTART;TZID=Europe/Zurich:20261022T070000
DTEND;TZID=Europe/Zurich:20261022T073000
END:VEVENT
BEGIN:VEVENT
UID:69ea028fc7f23
DTSTAMP:20260423T112919Z
SUMMARY:Tour 7 Kehricht
DESCRIPTION: 
URL:https://m.winterthur.ch/index.php?apid=1067618
DTSTART;TZID=Europe/Zurich:20261029T070000
DTEND;TZID=Europe/Zurich:20261029T073000
END:VEVENT
BEGIN:VEVENT
UID:69ea028fc7f2c
DTSTAMP:20260423T112919Z
SUMMARY:Tour 7 Kehricht
DESCRIPTION: 
URL:https://m.winterthur.ch/index.php?apid=1067618
DTSTART;TZID=Europe/Zurich:20261105T070000
DTEND;TZID=Europe/Zurich:20261105T073000
END:VEVENT
BEGIN:VEVENT
UID:69ea028fc7f35
DTSTAMP:20260423T112919Z
SUMMARY:Tour 7 Kehricht
DESCRIPTION: 
URL:https://m.winterthur.ch/index.php?apid=1067618
DTSTART;TZID=Europe/Zurich:20261112T070000
DTEND;TZID=Europe/Zurich:20261112T073000
END:VEVENT
BEGIN:VEVENT
UID:69ea028fc7f3e
DTSTAMP:20260423T112919Z
SUMMARY:Tour 7 Kehricht
DESCRIPTION: 
URL:https://m.winterthur.ch/index.php?apid=1067618
DTSTART;TZID=Europe/Zurich:20261119T070000
DTEND;TZID=Europe/Zurich:20261119T073000
END:VEVENT
BEGIN:VEVENT
UID:69ea028fc7f48
DTSTAMP:20260423T112919Z
SUMMARY:Tour 7 Kehricht
DESCRIPTION: 
URL:https://m.winterthur.ch/index.php?apid=1067618
DTSTART;TZID=Europe/Zurich:20261126T070000
DTEND;TZID=Europe/Zurich:20261126T073000
END:VEVENT
BEGIN:VEVENT
UID:69ea028fc7f51
DTSTAMP:20260423T112919Z
SUMMARY:Tour 7 Kehricht
DESCRIPTION: 
URL:https://m.winterthur.ch/index.php?apid=1067618
DTSTART;TZID=Europe/Zurich:20261203T070000
DTEND;TZID=Europe/Zurich:20261203T073000
END:VEVENT
BEGIN:VEVENT
UID:69ea028fc7f59
DTSTAMP:20260423T112919Z
SUMMARY:Tour 7 Kehricht
DESCRIPTION: 
URL:https://m.winterthur.ch/index.php?apid=1067618
DTSTART;TZID=Europe/Zurich:20261210T070000
DTEND;TZID=Europe/Zurich:20261210T073000
END:VEVENT
BEGIN:VEVENT
UID:69ea028fc7f62
DTSTAMP:20260423T112919Z
SUMMARY:Tour 7 Kehricht
DESCRIPTION: 
URL:https://m.winterthur.ch/index.php?apid=1067618
DTSTART;TZID=Europe/Zurich:20261217T070000
DTEND;TZID=Europe/Zurich:20261217T073000
END:VEVENT
BEGIN:VEVENT
UID:69ea028fc7f6b
DTSTAMP:20260423T112919Z
SUMMARY:Tour 7 Kehricht
DESCRIPTION: 
URL:https://m.winterthur.ch/index.php?apid=1067618
DTSTART;TZID=Europe/Zurich:20261224T070000
DTEND;TZID=Europe/Zurich:20261224T073000
END:VEVENT
BEGIN:VEVENT
UID:69ea028fc7f76
DTSTAMP:20260423T112919Z
SUMMARY:Tour 7 Kehricht
DESCRIPTION: 
URL:https://m.winterthur.ch/index.php?apid=1067618
DTSTART;TZID=Europe/Zurich:20261231T070000
DTEND;TZID=Europe/Zurich:20261231T073000
END:VEVENT
BEGIN:VEVENT
UID:69ea028fc7f7f
DTSTAMP:20260423T112919Z
SUMMARY:Tour 7 Kehricht
DESCRIPTION: 
URL:https://m.winterthur.ch/index.php?apid=1067618
DTSTART;TZID=Europe/Zurich:20270107T070000
DTEND;TZID=Europe/Zurich:20270107T073000
END:VEVENT
BEGIN:VEVENT
UID:69ea028fc7f88
DTSTAMP:20260423T112919Z
SUMMARY:Tour 7 Kehricht
DESCRIPTION: 
URL:https://m.winterthur.ch/index.php?apid=1067618
DTSTART;TZID=Europe/Zurich:20270114T070000
DTEND;TZID=Europe/Zurich:20270114T073000
END:VEVENT
BEGIN:VEVENT
UID:69ea028fc7f91
DTSTAMP:20260423T112919Z
SUMMARY:Tour 7 Kehricht
DESCRIPTION: 
URL:https://m.winterthur.ch/index.php?apid=1067618
DTSTART;TZID=Europe/Zurich:20270121T070000
DTEND;TZID=Europe/Zurich:20270121T073000
END:VEVENT
BEGIN:VEVENT
UID:69ea028fc7f9a
DTSTAMP:20260423T112919Z
SUMMARY:Tour 7 Kehricht
DESCRIPTION: 
URL:https://m.winterthur.ch/index.php?apid=1067618
DTSTART;TZID=Europe/Zurich:20270128T070000
DTEND;TZID=Europe/Zurich:20270128T073000
END:VEVENT
BEGIN:VEVENT
UID:69ea028fc7fa3
DTSTAMP:20260423T112919Z
SUMMARY:Tour 7 Kehricht
DESCRIPTION: 
URL:https://m.winterthur.ch/index.php?apid=1067618
DTSTART;TZID=Europe/Zurich:20270204T070000
DTEND;TZID=Europe/Zurich:20270204T073000
END:VEVENT
BEGIN:VEVENT
UID:69ea028fc7fad
DTSTAMP:20260423T112919Z
SUMMARY:Tour 7 Kehricht
DESCRIPTION: 
URL:https://m.winterthur.ch/index.php?apid=1067618
DTSTART;TZID=Europe/Zurich:20270211T070000
DTEND;TZID=Europe/Zurich:20270211T073000
END:VEVENT
BEGIN:VEVENT
UID:69ea028fc7fb6
DTSTAMP:20260423T112919Z
SUMMARY:Tour 7 Kehricht
DESCRIPTION: 
URL:https://m.winterthur.ch/index.php?apid=1067618
DTSTART;TZID=Europe/Zurich:20270218T070000
DTEND;TZID=Europe/Zurich:20270218T073000
END:VEVENT
BEGIN:VEVENT
UID:69ea028fc7fbf
DTSTAMP:20260423T112919Z
SUMMARY:Tour 7 Kehricht
DESCRIPTION: 
URL:https://m.winterthur.ch/index.php?apid=1067618
DTSTART;TZID=Europe/Zurich:20270225T070000
DTEND;TZID=Europe/Zurich:20270225T073000
END:VEVENT
BEGIN:VEVENT
UID:69ea028fc7fc8
DTSTAMP:20260423T112919Z
SUMMARY:Tour 7 Kehricht
DESCRIPTION: 
URL:https://m.winterthur.ch/index.php?apid=1067618
DTSTART;TZID=Europe/Zurich:20270304T070000
DTEND;TZID=Europe/Zurich:20270304T073000
END:VEVENT
BEGIN:VEVENT
UID:69ea028fc7fd1
DTSTAMP:20260423T112919Z
SUMMARY:Tour 7 Kehricht
DESCRIPTION: 
URL:https://m.winterthur.ch/index.php?apid=1067618
DTSTART;TZID=Europe/Zurich:20270311T070000
DTEND;TZID=Europe/Zurich:20270311T073000
END:VEVENT
BEGIN:VEVENT
UID:69ea028fc7fdb
DTSTAMP:20260423T112919Z
SUMMARY:Tour 7 Kehricht
DESCRIPTION: 
URL:https://m.winterthur.ch/index.php?apid=1067618
DTSTART;TZID=Europe/Zurich:20270318T070000
DTEND;TZID=Europe/Zurich:20270318T073000
END:VEVENT
BEGIN:VEVENT
UID:69ea028fc7fe4
DTSTAMP:20260423T112919Z
SUMMARY:Tour 7 Kehricht
DESCRIPTION: 
URL:https://m.winterthur.ch/index.php?apid=1067618
DTSTART;TZID=Europe/Zurich:20270325T070000
DTEND;TZID=Europe/Zurich:20270325T073000
END:VEVENT
BEGIN:VEVENT
UID:69ea028fc7fef
DTSTAMP:20260423T112919Z
SUMMARY:Tour 7 Kehricht
DESCRIPTION: 
URL:https://m.winterthur.ch/index.php?apid=1067618
DTSTART;TZID=Europe/Zurich:20270401T070000
DTEND;TZID=Europe/Zurich:20270401T073000
END:VEVENT
BEGIN:VEVENT
UID:69ea028fc7fff
DTSTAMP:20260423T112919Z
SUMMARY:Tour 7 Kehricht
DESCRIPTION: 
URL:https://m.winterthur.ch/index.php?apid=1067618
DTSTART;TZID=Europe/Zurich:20270408T070000
DTEND;TZID=Europe/Zurich:20270408T073000
END:VEVENT
BEGIN:VEVENT
UID:69ea028fc800e
DTSTAMP:20260423T112919Z
SUMMARY:Tour 7 Kehricht
DESCRIPTION: 
URL:https://m.winterthur.ch/index.php?apid=1067618
DTSTART;TZID=Europe/Zurich:20270415T070000
DTEND;TZID=Europe/Zurich:20270415T073000
END:VEVENT
BEGIN:VEVENT
UID:69ea028fc801d
DTSTAMP:20260423T112919Z
SUMMARY:Tour 7 Kehricht
DESCRIPTION: 
URL:https://m.winterthur.ch/index.php?apid=1067618
DTSTART;TZID=Europe/Zurich:20270422T070000
DTEND;TZID=Europe/Zurich:20270422T073000
END:VEVENT
BEGIN:VEVENT
UID:69ea028fc802d
DTSTAMP:20260423T112919Z
SUMMARY:Tour 7 Kehricht
DESCRIPTION: 
URL:https://m.winterthur.ch/index.php?apid=1067618
DTSTART;TZID=Europe/Zurich:20270429T070000
DTEND;TZID=Europe/Zurich:20270429T073000
END:VEVENT
BEGIN:VEVENT
UID:69ea028fc8037
DTSTAMP:20260423T112919Z
SUMMARY:Tour 7 Kehricht
DESCRIPTION: 
URL:https://m.winterthur.ch/index.php?apid=1067618
DTSTART;TZID=Europe/Zurich:20270507T070000
DTEND;TZID=Europe/Zurich:20270507T073000
END:VEVENT
BEGIN:VEVENT
UID:69ea028fc8041
DTSTAMP:20260423T112919Z
SUMMARY:Tour 7 Kehricht
DESCRIPTION: 
URL:https://m.winterthur.ch/index.php?apid=1067618
DTSTART;TZID=Europe/Zurich:20270513T070000
DTEND;TZID=Europe/Zurich:20270513T073000
END:VEVENT
BEGIN:VEVENT
UID:69ea028fc804a
DTSTAMP:20260423T112919Z
SUMMARY:Tour 7 Kehricht
DESCRIPTION: 
URL:https://m.winterthur.ch/index.php?apid=1067618
DTSTART;TZID=Europe/Zurich:20270520T070000
DTEND;TZID=Europe/Zurich:20270520T073000
END:VEVENT
BEGIN:VEVENT
UID:69ea028fc8054
DTSTAMP:20260423T112919Z
SUMMARY:Tour 7 Kehricht
DESCRIPTION: 
URL:https://m.winterthur.ch/index.php?apid=1067618
DTSTART;TZID=Europe/Zurich:20270527T070000
DTEND;TZID=Europe/Zurich:20270527T073000
END:VEVENT
BEGIN:VEVENT
UID:69ea028fc805d
DTSTAMP:20260423T112919Z
SUMMARY:Tour 7 Kehricht
DESCRIPTION: 
URL:https://m.winterthur.ch/index.php?apid=1067618
DTSTART;TZID=Europe/Zurich:20270603T070000
DTEND;TZID=Europe/Zurich:20270603T073000
END:VEVENT
BEGIN:VEVENT
UID:69ea028fc8066
DTSTAMP:20260423T112919Z
SUMMARY:Tour 7 Kehricht
DESCRIPTION: 
URL:https://m.winterthur.ch/index.php?apid=1067618
DTSTART;TZID=Europe/Zurich:20270610T070000
DTEND;TZID=Europe/Zurich:20270610T073000
END:VEVENT
BEGIN:VEVENT
UID:69ea028fc8070
DTSTAMP:20260423T112919Z
SUMMARY:Tour 7 Kehricht
DESCRIPTION: 
URL:https://m.winterthur.ch/index.php?apid=1067618
DTSTART;TZID=Europe/Zurich:20270617T070000
DTEND;TZID=Europe/Zurich:20270617T073000
END:VEVENT
BEGIN:VEVENT
UID:69ea028fc8079
DTSTAMP:20260423T112919Z
SUMMARY:Tour 7 Kehricht
DESCRIPTION: 
URL:https://m.winterthur.ch/index.php?apid=1067618
DTSTART;TZID=Europe/Zurich:20270624T070000
DTEND;TZID=Europe/Zurich:20270624T073000
END:VEVENT
BEGIN:VEVENT
UID:69ea028fc8083
DTSTAMP:20260423T112919Z
SUMMARY:Tour 7 Kehricht
DESCRIPTION: 
URL:https://m.winterthur.ch/index.php?apid=1067618
DTSTART;TZID=Europe/Zurich:20270701T070000
DTEND;TZID=Europe/Zurich:20270701T073000
END:VEVENT
BEGIN:VEVENT
UID:69ea028fc808c
DTSTAMP:20260423T112919Z
SUMMARY:Tour 7 Kehricht
DESCRIPTION: 
URL:https://m.winterthur.ch/index.php?apid=1067618
DTSTART;TZID=Europe/Zurich:20270708T070000
DTEND;TZID=Europe/Zurich:20270708T073000
END:VEVENT
BEGIN:VEVENT
UID:69ea028fc8095
DTSTAMP:20260423T112919Z
SUMMARY:Tour 7 Kehricht
DESCRIPTION: 
URL:https://m.winterthur.ch/index.php?apid=1067618
DTSTART;TZID=Europe/Zurich:20270715T070000
DTEND;TZID=Europe/Zurich:20270715T073000
END:VEVENT
BEGIN:VEVENT
UID:69ea028fc809f
DTSTAMP:20260423T112919Z
SUMMARY:Tour 7 Kehricht
DESCRIPTION: 
URL:https://m.winterthur.ch/index.php?apid=1067618
DTSTART;TZID=Europe/Zurich:20270722T070000
DTEND;TZID=Europe/Zurich:20270722T073000
END:VEVENT
BEGIN:VEVENT
UID:69ea028fc80a8
DTSTAMP:20260423T112919Z
SUMMARY:Tour 7 Kehricht
DESCRIPTION: 
URL:https://m.winterthur.ch/index.php?apid=1067618
DTSTART;TZID=Europe/Zurich:20270729T070000
DTEND;TZID=Europe/Zurich:20270729T073000
END:VEVENT
BEGIN:VEVENT
UID:69ea028fc80b2
DTSTAMP:20260423T112919Z
SUMMARY:Tour 7 Kehricht
DESCRIPTION: 
URL:https://m.winterthur.ch/index.php?apid=1067618
DTSTART;TZID=Europe/Zurich:20270805T070000
DTEND;TZID=Europe/Zurich:20270805T073000
END:VEVENT
BEGIN:VEVENT
UID:69ea028fc80bb
DTSTAMP:20260423T112919Z
SUMMARY:Tour 7 Kehricht
DESCRIPTION: 
URL:https://m.winterthur.ch/index.php?apid=1067618
DTSTART;TZID=Europe/Zurich:20270812T070000
DTEND;TZID=Europe/Zurich:20270812T073000
END:VEVENT
BEGIN:VEVENT
UID:69ea028fc80c4
DTSTAMP:20260423T112919Z
SUMMARY:Tour 7 Kehricht
DESCRIPTION: 
URL:https://m.winterthur.ch/index.php?apid=1067618
DTSTART;TZID=Europe/Zurich:20270819T070000
DTEND;TZID=Europe/Zurich:20270819T073000
END:VEVENT
BEGIN:VEVENT
UID:69ea028fc80d1
DTSTAMP:20260423T112919Z
SUMMARY:Tour 7 Kehricht
DESCRIPTION: 
URL:https://m.winterthur.ch/index.php?apid=1067618
DTSTART;TZID=Europe/Zurich:20270826T070000
DTEND;TZID=Europe/Zurich:20270826T073000
END:VEVENT
BEGIN:VEVENT
UID:69ea028fc80da
DTSTAMP:20260423T112919Z
SUMMARY:Tour 7 Kehricht
DESCRIPTION: 
URL:https://m.winterthur.ch/index.php?apid=1067618
DTSTART;TZID=Europe/Zurich:20270902T070000
DTEND;TZID=Europe/Zurich:20270902T073000
END:VEVENT
BEGIN:VEVENT
UID:69ea028fc80e3
DTSTAMP:20260423T112919Z
SUMMARY:Tour 7 Kehricht
DESCRIPTION: 
URL:https://m.winterthur.ch/index.php?apid=1067618
DTSTART;TZID=Europe/Zurich:20270909T070000
DTEND;TZID=Europe/Zurich:20270909T073000
END:VEVENT
BEGIN:VEVENT
UID:69ea028fc80ed
DTSTAMP:20260423T112919Z
SUMMARY:Tour 7 Kehricht
DESCRIPTION: 
URL:https://m.winterthur.ch/index.php?apid=1067618
DTSTART;TZID=Europe/Zurich:20270916T070000
DTEND;TZID=Europe/Zurich:20270916T073000
END:VEVENT
BEGIN:VEVENT
UID:69ea028fc80f6
DTSTAMP:20260423T112919Z
SUMMARY:Tour 7 Kehricht
DESCRIPTION: 
URL:https://m.winterthur.ch/index.php?apid=1067618
DTSTART;TZID=Europe/Zurich:20270923T070000
DTEND;TZID=Europe/Zurich:20270923T073000
END:VEVENT
BEGIN:VEVENT
UID:69ea028fc8100
DTSTAMP:20260423T112919Z
SUMMARY:Tour 7 Kehricht
DESCRIPTION: 
URL:https://m.winterthur.ch/index.php?apid=1067618
DTSTART;TZID=Europe/Zurich:20270930T070000
DTEND;TZID=Europe/Zurich:20270930T073000
END:VEVENT
BEGIN:VEVENT
UID:69ea028fc8109
DTSTAMP:20260423T112919Z
SUMMARY:Tour 7 Kehricht
DESCRIPTION: 
URL:https://m.winterthur.ch/index.php?apid=1067618
DTSTART;TZID=Europe/Zurich:20271007T070000
DTEND;TZID=Europe/Zurich:20271007T073000
END:VEVENT
BEGIN:VEVENT
UID:69ea028fc8113
DTSTAMP:20260423T112919Z
SUMMARY:Tour 7 Kehricht
DESCRIPTION: 
URL:https://m.winterthur.ch/index.php?apid=1067618
DTSTART;TZID=Europe/Zurich:20271014T070000
DTEND;TZID=Europe/Zurich:20271014T073000
END:VEVENT
BEGIN:VEVENT
UID:69ea028fc811c
DTSTAMP:20260423T112919Z
SUMMARY:Tour 7 Kehricht
DESCRIPTION: 
URL:https://m.winterthur.ch/index.php?apid=1067618
DTSTART;TZID=Europe/Zurich:20271021T070000
DTEND;TZID=Europe/Zurich:20271021T073000
END:VEVENT
BEGIN:VEVENT
UID:69ea028fc8126
DTSTAMP:20260423T112919Z
SUMMARY:Tour 7 Kehricht
DESCRIPTION: 
URL:https://m.winterthur.ch/index.php?apid=1067618
DTSTART;TZID=Europe/Zurich:20271028T070000
DTEND;TZID=Europe/Zurich:20271028T073000
END:VEVENT
BEGIN:VEVENT
UID:69ea028fc812f
DTSTAMP:20260423T112919Z
SUMMARY:Tour 7 Kehricht
DESCRIPTION: 
URL:https://m.winterthur.ch/index.php?apid=1067618
DTSTART;TZID=Europe/Zurich:20271104T070000
DTEND;TZID=Europe/Zurich:20271104T073000
END:VEVENT
BEGIN:VEVENT
UID:69ea028fc8138
DTSTAMP:20260423T112919Z
SUMMARY:Tour 7 Kehricht
DESCRIPTION: 
URL:https://m.winterthur.ch/index.php?apid=1067618
DTSTART;TZID=Europe/Zurich:20271111T070000
DTEND;TZID=Europe/Zurich:20271111T073000
END:VEVENT
BEGIN:VEVENT
UID:69ea028fc8141
DTSTAMP:20260423T112919Z
SUMMARY:Tour 7 Kehricht
DESCRIPTION: 
URL:https://m.winterthur.ch/index.php?apid=1067618
DTSTART;TZID=Europe/Zurich:20271118T070000
DTEND;TZID=Europe/Zurich:20271118T073000
END:VEVENT
BEGIN:VEVENT
UID:69ea028fc814b
DTSTAMP:20260423T112919Z
SUMMARY:Tour 7 Kehricht
DESCRIPTION: 
URL:https://m.winterthur.ch/index.php?apid=1067618
DTSTART;TZID=Europe/Zurich:20271125T070000
DTEND;TZID=Europe/Zurich:20271125T073000
END:VEVENT
BEGIN:VEVENT
UID:69ea028fc8154
DTSTAMP:20260423T112919Z
SUMMARY:Tour 7 Kehricht
DESCRIPTION: 
URL:https://m.winterthur.ch/index.php?apid=1067618
DTSTART;TZID=Europe/Zurich:20271202T070000
DTEND;TZID=Europe/Zurich:20271202T073000
END:VEVENT
BEGIN:VEVENT
UID:69ea028fc815e
DTSTAMP:20260423T112919Z
SUMMARY:Tour 7 Kehricht
DESCRIPTION: 
URL:https://m.winterthur.ch/index.php?apid=1067618
DTSTART;TZID=Europe/Zurich:20271209T070000
DTEND;TZID=Europe/Zurich:20271209T073000
END:VEVENT
BEGIN:VEVENT
UID:69ea028fc8167
DTSTAMP:20260423T112919Z
SUMMARY:Tour 7 Kehricht
DESCRIPTION: 
URL:https://m.winterthur.ch/index.php?apid=1067618
DTSTART;TZID=Europe/Zurich:20271216T070000
DTEND;TZID=Europe/Zurich:20271216T073000
END:VEVENT
BEGIN:VEVENT
UID:69ea028fc8171
DTSTAMP:20260423T112919Z
SUMMARY:Tour 7 Kehricht
DESCRIPTION: 
URL:https://m.winterthur.ch/index.php?apid=1067618
DTSTART;TZID=Europe/Zurich:20271223T070000
DTEND;TZID=Europe/Zurich:20271223T073000
END:VEVENT
BEGIN:VEVENT
UID:69ea028fc817a
DTSTAMP:20260423T112919Z
SUMMARY:Tour 7 Kehricht
DESCRIPTION: 
URL:https://m.winterthur.ch/index.php?apid=1067618
DTSTART;TZID=Europe/Zurich:20271230T070000
DTEND;TZID=Europe/Zurich:20271230T073000
END:VEVENT
END:VCALENDAR